Workbook

Sheet Original Data
A1: Respondent ID | B1: Collector ID | C1: Start Date | D1: End Date | E1: IP Address | F1: Email Address | G1: First Name | H1: Last Name | I1: Custom Data 1 | J1: 1A. County | K1: 1B. Person completing the survey | L1: 1C. Email address of person completing the survey | M1: 2A. What is the total number of active people under supervision? (This should be the same number that was reported to PCCD). | N1: 2B. What is the total number of staff dedicated to the supervision of active people under supervision? (This should be the same number that was reported to PCCD) | O1: 2C. For the supervisors who oversee the staff identified in question 2B, what is the average number of staff (dedicated to monitoring active people) that they are responsible for supervising? | P1: 2D. Does management (i.e., chief, deputy chief, supervisors, etc.) supervise an active caseload? | Q1: 2E. Do any staff identified in question #2B supervise both adults and youth? | R1: 2F. For the staff indicated in question #2B, how many vacancies existed as of December 31, 2025? | S1: 3A. What risk and needs instruments are used in your department? (Check all that apply. This does not include specialized assessments such as the Static-99R) | AG1: 3B. What was the total number of active people for each risk level subset (This should be similar to what was reported to PCCD using the above translation chart when applicable). | AK1: 3C. How does your department assign general supervision caseloads? Please note that how the department assigns general caseloads impacts how you will answer questions 5-10 and their sub-questions. | AM1: 3D. Do contact standards for general caseloads specify a percentage or frequency of contacts that should occur in the field? | AN1: 4. Do you have staff dedicated to supervising ONLY people on an administrative caseload? (People are generally not required to have face-to-face contacts unless there is a need) | AO1: 4A. What type of cases are eligible to be assigned to an administrative caseload? (Check all that apply) | AY1: 4B. What is the primary way that people are required to report on administrative caseloads? | AZ1: 4C. How many staff are assigned to supervise administrative caseloads? | BA1: 4D. What is the average size of an administrative caseload assigned to a single staff person? | BB1: 5. Do you have staff dedicated to supervising ONLY people that have scored as a low risk as determined by a risk and needs assessment? (The staff person does not supervise people that have scored as moderate/medium, high, very high risk to be rearrested, or people that have been placed on an administrative caseload. This also does not include specialized caseloads or problem-solving courts.) | BC1: 5A. How many staff are assigned to supervise low-risk caseloads? | BD1: 5B. What is the average size of a low-risk caseload assigned to a single staff person? | BE1: 5C. What is the required minimum number of face-to-face contacts (office and/or field) on the low-risk caseload? This includes virtual contact in accordance with current standards. This does not include collateral contacts. [Select one] | BG1: 5D. Do you assign active people to different general caseloads based on risk as determined by a risk and needs instrument? (For example, you have a caseload for only people that have scored high on a risk and needs assessment and/or you have a caseload for people that have scored as a moderate risk). | BH1: 6. Do you have staff dedicated to supervising ONLY people that are moderate or medium risk as determined by a risk and needs assessment? (The staff person does not supervise people that have scored as low, high, or very high risk to be rearrested, or people that have been placed on an administrative caseload. This also does not include specialized caseloads or problem-solving courts.) | BI1: 6A. How many staff are assigned to supervise the moderate or medium risk caseloads? | BJ1: 6B. What is the average size of a moderate or medium risk caseload assigned to a single staff person? | BK1: 6C. What is the required minimum number of face-to-face contacts (office and/or field) on the moderate or medium risk caseload? This includes virtual contact in accordance with current standards. This does not include collateral contacts. [Select one] | BM1: 7. Do you have staff dedicated to supervising ONLY people that are high-risk as determined by a risk and needs assessment? (The staff person does not supervise people that have scored as low, or moderate/medium risk to be rearrested, or people that have been placed on an administrative caseload. This also does not include specialized caseloads or problem-solving courts.) | BN1: 7A. How many staff are assigned to supervise the high-risk caseloads? | BO1: 7B. What is the average size of a high-risk caseload assigned to a single staff person? | BP1: 7C. What is the required minimum number of face-to-face contacts (office and/or field) on the high-risk caseload? This includes virtual contact in accordance with current standards. This does not include collateral contacts. [Select one] | BR1: 8. Do you have staff dedicated to supervising ONLY people that are very high-risk as determined by a risk and needs assessment? (The staff person does not supervise people that have scored as low, moderate/medium, or high risk to be rearrested, or people that have been placed on an administrative caseload. This also does not include specialized caseloads or problem-solving courts.) | BS1: 8A. How many staff are assigned to supervise the very high-risk caseloads? | BT1: 8B. What is the average size of a very high-risk caseload assigned to a single staff person? | BU1: 8C. What is the required minimum number of face-to-face contacts (office and/or field) on the very high-risk caseload? This includes virtual contact in accordance with current standards. This does not include collateral contacts. [Select one] | BW1: 9. Do you have MIXED caseloads with staff dedicated to supervising a caseload of ONLY people that are moderate/medium AND high OR very high-risk as determined by a risk and needs assessment? (The staff person does not supervise people that have scored as low or people that have been placed on an administrative caseload. This also does not include specialized caseloads or problem-solving courts.) | BX1: 9A. How many staff are assigned to supervise the moderate and high-risk caseloads? | BY1: 9B. What is the average size of a moderate and high-risk caseload assigned to a single staff person? | BZ1: 9C. What is the required minimum number of face-to-face contacts (office and/or field) for people who are moderate risk on the moderate and high risk mixed caseload? This includes virtual contact in accordance with current standards. This does not include collateral contacts. [Select one] | CB1: 9D. What is the required minimum number of face-to-face contacts (office and/or field) for people who are high risk on the moderate and high risk mixed caseload? This includes virtual contact in accordance with current standards. This does not include collateral contacts. [Select one] | CD1: 9E. What is the required minimum number of face-to-face contacts (office and/or field) for people who are very-high risk on the moderate and high risk mixed caseload? This includes virtual contact in accordance with current standards. This does not include collateral contacts. [Select one] | CF1: 10. Do you have MIXED caseloads with staff dedicated to supervising people that are low, moderate, high, and very high as determined by a risk and needs assessment? (The staff person does not supervise people that have been placed on an administrative caseload. This also does not include specialized caseloads or problem-solving courts.) | CG1: 10A. How many staff are assigned to supervise the mixed caseloads? | CH1: 10B. What is the average size of a mixed caseload assigned to a single staff person? | CI1: 10C. What is the required minimum number of face-to-face contacts (office and/or field) for people who are low risk on the low, moderate, high mixed caseload? This includes virtual contact in accordance with current standards. This does not include collateral contacts. [Select one] | CK1: 10D. What is the required minimum number of face-to-face contacts (office and/or field) for people who are moderate risk on the low, moderate, high risk mixed caseload? This includes virtual contact in accordance with current standards. This does not include collateral contacts. [Select one] | CM1: 10E. What is the required minimum number of face-to-face contacts (office and/or field) for people who are high-risk on the low, moderate, high risk mixed caseload? This includes virtual contact in accordance with current standards. This does not include collateral contacts. [Select one] | CO1: 10F. What is the required minimum number of face-to-face (office and/or field) contacts for people who are very-high risk on the low, moderate, high risk mixed caseload? This includes virtual contact in accordance with current standards. This does not include collateral contacts. [Select one] | CQ1: 11. Do you have problem solving courts? | CR1: 12. Do you have a Drug Court? | CS1: 12A. How many staff are assigned to supervising Drug Court participants? | CT1: 12B. What is the average caseload of a staff person in the Drug Court? (Note that these people should not have been included in questions about administrative, low, moderate/medium, high, or very high-caseloads.) | CU1: 12C. How are contact standards determined for participants in the Drug Court? | CW1: 12D. What is the required number of face-to-face contacts (office and/or field) with a probation officer for a participant in phase one in the Drug Court? This includes virtual contacts in accordance with current standards. This does not include collateral contacts. [Select one] | CY1: 13. Do you have a Mental Health Court? | CZ1: 13A. How many staff are assigned to the supervising Mental Health Court participants? | DA1: 13B. What is the average caseload of a staff person in the Mental Health Court? (Note that these people should not have been included in questions about administrative, low, moderate/medium, high, or very high-caseloads.) | DB1: 13C. How are contact standards determined for participants in the Mental Health Court? | DD1: 13D. What is the required number of face-to-face contacts (office and/or field) with a probation officer for a participant in phase one in the Mental Health Court? This includes virtual contacts in accordance with current standards. This does not include collateral contacts. [Select one] | DF1: 14. Do you have a Veteran's Court? | DG1: 14A. How many staff are assigned to supervising Veterans' Court participants? | DH1: 14B. What is the average caseload of a staff person in the Veterans' Court? (Note that these people should not have been included in questions about administrative, low, moderate/medium, high, or very high-caseloads.) | DI1: 14C. How are contact standards determined for participants in the Veterans Court? | DK1: 14D. What is the required number of face-to-face contacts (office and/or field) with a probation officer for a participant in phase one in the Veterans Court? This includes virtual contacts in accordance with current standards. This does not include collateral contacts. [Select one] | DM1: 15. Do you have a DUI Court? (Answer "No" if you have have a DUI/Drug Court Hybrid which is captured in question 16) | DN1: 15A. How many staff are assigned to supervising DUI Court participants? | DO1: 15B. What is the average caseload of a staff person in the DUI Court? (Note that these people should not have been included in questions about administrative, low, moderate/medium, high, or very high-caseloads.) | DP1: 15C. How are contact standards determined for participants in the DUI Court? | DR1: 15D. What is the required number of face-to-face contacts (office and/or field) with a probation officer for a participant in phase one in the DUI Court? This includes virtual contacts in accordance with current standards. This does not include collateral contacts. [Select one] | DT1: 16. Do you have a Drug/DUI Court Hybrid? | DU1: 16A. How many staff are assigned to supervising Drug/DUI Hybrid Court Participants? (Note that these people should not have been included in questions about administrative, low, moderate/medium, high, or very high-caseloads.) | DV1: 16B. What is the average caseload of a staff person in the Drug/DUI Hybrid Court? | DW1: 16C. How are contact standards determined for participants in the Drug/DUI Hybrid Court? | DY1: 16D. What is the required number of face-to-face contacts (office and/or field) with a probation officer for a participant in phase one in the Drug/DUI Hybrid Court? This includes virtual contacts in accordance with current standards. This does not include collateral contacts. [Select one] | EA1: 17. Do you have a problem solving court for people who have engaged in prostitution? | EB1: 17A. How many staff are assigned to supervising participants in problem solving court for people who have engaged in prostitution? | EC1: 17B. What is the average caseload of a staff person in the problem solving court for people who have engaged in prostitution? (Note that these people should not have been included in questions about administrative, low, moderate/medium, high, or very high-caseloads.) | ED1: 17C. How are contact standards determined for participants in the problem solving court for people who have engaged in prostitution? | EF1: 17D. What is the required number of face-to-face contacts (office and/or field) with a probation officer for a participant in phase one in the problem solving court for people who have engaged in prostitution? This includes virtual contacts in accordance with current standards. This does not include collateral contacts. [Select one] | EH1: 18. Do you have another type of problem solving court? | EI1: 18i. What type of court? | EJ1: 18A. How many staff are assigned to supervising court participants? | EK1: 18B. What is the average caseload of a staff person in the Court? (Note that these people should not have been included in questions about administrative, low, moderate/medium, high, or very high-caseloads.) | EL1: 18C. . How are contact standards determined for participants in the Court? | EN1: 18D. What is the required number of face-to-face contacts (office and/or field) with a probation officer for a participant in phase one in the Court? This includes virtual contacts in accordance with current standards. This does not include collateral contacts. [Select one] | EP1: 19. Do you have specialized caseloads? (This does not include caseloads previously reported such as caseloads designated by risk or problem solving courts)This includes caseloads such as pretrial, parole, reentry, ARD, house arrest, electronic monitoring, sexual offenses, domestic violence, intimate partner violence, DUI, mental health, gangs, firearms, substance use, and females. | EQ1: 20. Do you have staff dedicated to supervising a caseload of people that are under pretrial supervision? | ER1: 20A. How many staff members are assigned to supervise the Pretrial Caseload? | ES1: 20B. What is the average size of the Pretrial Caseload assigned to a single staff person? (Note that these people should not have been included in questions about low, moderate/medium, high, or very high-caseloads or problem-solving courts) | ET1: 20C. How are contact standards determined for people being supervised on this caseload? (Check all that apply) | EZ1: 20D. Was this caseload captured in question 4B related to Administrative Caseloads? | FA1: 21. Do you have staff dedicated to a caseload for people that are pending parole/reentry? | FB1: 21A. How many staff members are assigned to supervise the Parole/Reentry Caseload? | FC1: 21B. What is the average size of the Parole/Reentry Caseload assigned to a single staff person? (Note that these people should not have been included in questions about low, moderate/medium, high, or very high-caseloads or problem solving courts.) | FD1: 21C. How are contact standards determined for people being supervised on this caseload? (Check all that apply) | FJ1: 22. Do you have staff dedicated to supervising people who have been convicted of a sexual offense? | FK1: 22A. How many staff members are assigned to supervise the caseload for people convicted of a sexual offense? | FL1: 22B. What is the average size of the caseload for people convicted of a sexual offense assigned to a single staff person? (Note that these people should not have been included in questions about a low, moderate/medium, high, or very high-caseloads or problem solving courts.) | FM1: 22C. How are contact standards determined for people being supervised on this caseload? (Check all that apply) | FS1: 23. Do you have staff dedicated to supervising people who have been convicted of domestic violence (intimate partner violence) related offenses? | FT1: 23A. How many staff members are assigned to supervise the caseload for people convicted of a Domestic Violence (Intimate Partner Violence)? | FU1: 23B. What is the average size of the caseload for people convicted of a Domestic Violence (Intimate Partner Violence) assigned to a single staff person? (Note that these people should not have been included in questions about low, moderate/medium, high, or very high-caseloads or problem solving courts.) | FV1: 23C. How are contact standards determined for people being supervised on this caseload? (Check all that apply) | GB1: 24. Do you have staff dedicated to supervising people who have been convicted of DUI? | GC1: 24A. How many staff members are assigned to supervise the DUI Caseload? | GD1: 24B. What is the average size of the caseload DUI Caseload assigned to a single staff person? (Note that these people should not have been included in questions about low, moderate/medium, high, or very high-caseloads or problem solving courts.) | GE1: 24C. How are contact standards determined for people being supervised on this caseload? (Check all that apply) | GK1: 24D. Was this caseload captured in question 4B related to Administrative Caseloads? | GL1: 25. Do you have staff dedicated to supervising people who have a mental health diagnosis? | GM1: 25A. How many staff members are assigned to supervise the Mental Health Caseload? | GN1: 25B. What is the average size of the Mental Health Caseload assigned to a single staff person? (Note that these people should not have been included in questions about low, moderate/medium, high, or very high-caseloads or problem solving courts.) | GO1: 25C. How are contact standards determined for people being supervised on this caseload? (Check all that apply) | GU1: 26. Do you have staff dedicated to supervising people who are female? | GV1: 26A. How many staff members are assigned to supervise the female caseload ? | GW1: 26B. What is the average size of the Female Caseload assigned to a single staff person? (Note that these people should not have been included in questions about low, moderate/medium, high, or very high-caseloads pr problem solving courts) | GX1: 26C. How are contact standards determined for people being supervised on this caseload? (Check all that apply) | HD1: 27. Do you have staff dedicated to supervising a caseload of people that have a history of gang activity? | HE1: 27A. How many staff members are assigned to supervise the Gang caseload? | HF1: 27B. What is the average size of the Gang Caseload assigned to a single staff person? (Note that these people should not have been included in questions about low, moderate/medium, high, or very high-caseloads or problem solving courts.) | HG1: 27C. How are contact standards determined for people being supervised on this caseload? (Check all that apply) | HM1: 28. Do you have staff dedicated to supervising people who have been convicted of a firearms related charge? | HN1: 28A. How many staff members are assigned to supervise the Firearms Caseload? | HO1: 28B. What is the average size of the Firearm Caseload assigned to a single staff person? (Note that these people should not have been included in questions about low, moderate/medium, high, or very high-caseloads or problem solving courts.) | HP1: 28C. How are contact standards determined for people being supervised on this caseload? (Check all that apply) | HV1: 29. Do you have staff dedicated to supervising a caseload of people who have been diagnosed with substance use disorder? | HW1: 29A. How many staff members are assigned to supervise the Substance Use Caseload? | HX1: 29B. What is the average size of the Substance Use Caseload assigned to a single staff person? (Note that these people should not have been included in questions about low, moderate/medium, high, or very high-caseloads or problem solving courts.) | HY1: 29C. How are contact standards determined for people being supervised on this caseload? (Check all that apply) | IE1: 30. Do you have staff dedicated to supervising a caseload of people on electronic monitoring or house arrest? | IF1: 30A. How many staff members are assigned to House Arrest/Electronic Monitoring Caseload? | IG1: 30B. What is the average size of the House Arrest/Electronic Monitoring caseload f assigned to a single staff person? (Note that these people should not have been included in questions about low, moderate/medium, high, or very high-caseloads or problem solving courts.) | IH1: 30C. How are contact standards determined for people being supervised on this caseload? (Check all that apply) | IN1: 31. Do you have staff dedicated to supervising people that are placed on ARD? | IO1: 31A. How many staff members are assigned to supervise the ARD Caseload? | IP1: 31B. What is the average size of the ARD Caseload assigned to a single staff person? (Note that these people should not have been included in questions about low, moderate/medium, high, or very high-caseloads or problem solving courts.) | IQ1: 31C. How are contact standards determined for people being supervised on this caseload? (Check all that apply) | IW1: 31D. What is the primary way that people are required to report on the ARD caseload? | IX1: 31E. Was this caseload captured in question 4B related to Administrative Caseloads? | IY1: 32. Do you have staff assigned to supervise a caseload of people that have been transferred to another county or state? (This would include both active and not active people as defined by PCCD) | IZ1: 32A. How many staff members are assigned to supervise the transfer caseload? | JA1: 32B. What is the average size of the Transfer Caseload assigned to a single staff person? (Note that these people should not have been included in questions about low, moderate/medium, high, or very high-caseloads or problem solving courts.) | JB1: 32C. How are contact standards determined for people being supervised on this caseload? (Check all that apply) | JH1: 32D. What is the primary way that people are required to report on the Transfer caseload? | JI1: 32E. Was this caseload captured in question 4B related to Administrative Caseloads? | JJ1: 33. Do you have staff dedicated to supervising a caseload of people that have not reached their maximum expiration for monetary compliance? | JK1: 33A. How many staff members are assigned to supervise the Monetary Caseload? | JL1: 33B. What is the average size of the Monetary Caseload assigned to a single staff person? (Note that these people should not have been included in questions about low, moderate/medium, high, or very high-caseloads or problem solving courts.) | JM1: 33C. How are contact standards determined for people being supervised on this caseload? (Check all that apply) | JS1: 33D. What is the primary way that people are required to report on the Monetary caseload? | JT1: 33E. Was this caseload captured in question 4B related to Administrative Caseloads? | JU1: 34. Do you have staff dedicated to supervising another type of specialized caseload not previously indicated? | JV1: 34i. What is the target population of the specialized caseload? | JW1: 34A. How many staff members are assigned to supervise the other caseload? | JX1: 34B. What is the average size of the other caseload assigned to a single staff person? (Note that these people should not have been included in questions about low, moderate/medium, high, or very high-caseloads or problem solving courts.) | JY1: 34C. How are contact standards determined for people being supervised on this caseload? (Check all that apply) | KE1: 35. Is there another type of specialized caseload that you have staff dedicated to that was not previously indicated? | KF1: 35i. What is the target population of the specialized caseload? | KG1: 35A. How many staff members are assigned to supervise the caseload? | KH1: 35B. What is the average size of the caseload assigned to a single staff person? (Note that these people should not have been included in questions about low, moderate/medium, high, or very high-caseloads or problem solving courts.) | KI1: 35C. How are contact standards determined for people being supervised on this caseload? (Check all that apply) | KO1: 36. Do you have one more specialized caseload that you have staff dedicated to that was not previously indicated? | KP1: 36i. What is the target population of the specialized caseload? | KQ1: 36A. How many staff members are assigned to supervise the caseload? | KR1: 36B. What is the average size of the caseload assigned to a single staff person? (Note that these people should not have been included in questions about low, moderate/medium, high, or very high-caseloads or problem solving courts.) | KS1: 36C. How are contact standards determined for people being supervised on this caseload? (Check all that apply) | KY1: 37. Do you have staff dedicated to completing intakes? (This may include staff that have been captured in previous questions. For example they may be primarily responsible for completing intakes and they are also responsible for completing PSI's or supervising transfer cases.) | KZ1: 37A. What other duties do staff assigned to the intake unit complete? | LA1: 38. How would you describe your Court's practices as it relates to ordering pre-sentence investigations (PSI)? (Check all that apply) | LJ1: 38A. How many presentence investigations were ordered in 2025? | LK1: 38B. Do you have staff dedicated to writing presentence investigations | LL1: 38C. How many staff are assigned to writing presentence investigations? | LM1: 39. What are the other duties of caseload carrying staff (primary responsibility is supervision of active people including duties such as field work, court reports, Gagnon hearings, etc.) within the department that impact their ability to properly supervise their caseload? (Check all that apply) | MG1: 39A. How many hours do caseload carrying staff (primary responsibility of supervising active people) work each week? (This is referencing the staff identified in question 2B) | MH1: 39B. On average, how many hours a week are caseload carrying staff (primary responsibility of supervising active people) dedicating to performing tasks that are directly related to supervision? (This is referencing the staff identified in question 2B). Enter a numeric value. | MI1: 39C. Some counties have indicated that geography and/or terrain of their county impacts the workload of their staff. If you feel that applies to your county, please indicate how it impacts your staff (either positively or negatively) and how do you feel that this data can be accurately captured? (Enter "N/A" if this does not apply to your county) | MJ1: 39D. Are there other people not captured in this survey that your department is responsible for monitoring/supervising? (Optional question) | MK1: 39E. Are there other duties or factors that impact the workload of your caseload carrying staff that have not been captured in this survey? | ML1: 39F. Are there additional factors that have impacted caseloads in your county that have not been captured in this survey? | MM1: 40. Do you currently collect and track recidivism data (technical violations and new arrest) and would you be able to report rates in future surveys? | MN1: 41. Have you implemented any significant changes that have positively or negatively impacted caseloads in your county? If yes, please briefly explain. (Optional question) | MO1: 42. How has Act 2023-44 impacted your caseloads or workloads? (Optional question) | MP1: 43. Are you currently collecting any data related to Act 2023-44 outcomes? | MQ1: 43A. Please select all data points related to Act 2023-44 that you currently collect and would be able to report on in future surveys. (Select all that apply) | MZ1: 44. Additional Comments or clarification. If you are clarifying a previous answer, please include the question number. (Optional question)
J2: Response | K2: Open-Ended Response | L2: Open-Ended Response | M2: Open-Ended Response | N2: Open-Ended Response | O2: Open-Ended Response | P2: Response | Q2: Response | R2: Open-Ended Response | S2: Pretrial Tool (ORAS-PAT) | T2: Misdemeanor Assessment Tool (ORAS-MAT) | U2: Misdemeanor Screening Tool (ORAS-MST) | V2: Community Supervision Tool (ORAS-CST) | W2: Community Supervision Screener Tool (ORAS-CSST) | X2: Prison Intake Tool (ORAS-PIT) | Y2: Prison Screener Tool (ORAS-PST) | Z2: Reentry Tool (ORAS-RT) | AA2: Supplemental Reentry Tool (ORAS-SRT) | AB2: Woman's Risk/Needs Assessment (WRNA) | AC2: Level of Service Inventory-Revised (LSI-R) | AD2: Level of Service/Case management Inventory (LS/CMI) | AE2: Other validated risk and needs tool for general population | AF2: Do not use a validated risk and needs tool | AG2: How many active people scored on a validated risk and needs assessment as a low risk? | AH2: How many active people scored on a validated risk and needs assessment as a moderate or medium risk (including low/moderate)? | AI2: How many active people scored on a validated risk and needs assessment as a high risk? | AJ2: How many active people scored on a validated risk and needs assessment as a very high risk? | AK2: Response | AL2: Other (please specify) | AM2: Response | AN2: Response | AO2: ARD cases | AP2: Bench Warrant Status/Absconders | AQ2: Transfer cases (Inter-county) | AR2: Transfer cases (Inter-state) | AS2: Cases that are ineligible to transfer | AT2: People that are incarcerated | AU2: People in long-term treatment | AV2: People that are a low risk | AW2: People that are a moderate or medium risk | AX2: People that are a high risk | AY2: Response | AZ2: Open-Ended Response | BA2: Open-Ended Response | BB2: Response | BC2: Open-Ended Response | BD2: Open-Ended Response | BE2: Response | BF2: Other (Free text) | BG2: Response | BH2: Response | BI2: Open-Ended Response | BJ2: Open-Ended Response | BK2: Response | BL2: Other (Free text) | BM2: Response | BN2: Open-Ended Response | BO2: Open-Ended Response | BP2: Response | BQ2: Other (Free text) | BR2: Response | BS2: Open-Ended Response | BT2: Open-Ended Response | BU2: Response | BV2: Other (Free text) | BW2: Response | BX2: Open-Ended Response | BY2: Open-Ended Response | BZ2: Response | CA2: Other (Free text) | CB2: Response | CC2: Other (Free text) | CD2: Response | CE2: Other (Free text) | CF2: Response | CG2: Open-Ended Response | CH2: Open-Ended Response | CI2: Response | CJ2: Other (Free text) | CK2: Response | CL2: Other (Free text) | CM2: Response | CN2: Other (Free text) | CO2: Response | CP2: Other (Free text) | CQ2: Response | CR2: Response | CS2: Open-Ended Response | CT2: Open-Ended Response | CU2: Response | CV2: Other (please specify) | CW2: Response | CX2: Other (please specify) | CY2: Response | CZ2: Open-Ended Response | DA2: Open-Ended Response | DB2: Response | DC2: Other (please specify) | DD2: Response | DE2: Other (please specify) | DF2: Response | DG2: Open-Ended Response | DH2: Open-Ended Response | DI2: Response | DJ2: Other (please specify) | DK2: Response | DL2: Other (please specify) | DM2: Response | DN2: Open-Ended Response | DO2: Open-Ended Response | DP2: Response | DQ2: Other (please specify) | DR2: Response | DS2: Other (please specify) | DT2: Response | DU2: Open-Ended Response | DV2: Open-Ended Response | DW2: Response | DX2: Other (please specify) | DY2: Response | DZ2: Other (please specify) | EA2: Response | EB2: Open-Ended Response | EC2: Open-Ended Response | ED2: Response | EE2: Other (please specify) | EF2: Response | EG2: Other (please specify) | EH2: Response | EI2: Open-Ended Response | EJ2: Open-Ended Response | EK2: Open-Ended Response | EL2: Response | EM2: Other (please specify) | EN2: Response | EO2: Other (please specify) | EP2: Response | EQ2: Response | ER2: Open-Ended Response | ES2: Open-Ended Response | ET2: Results of risk and needs assessment | EU2: Results of a specialized assessment | EV2: Combination of risk and needs assessment and specialized assessment | EW2: Caseload specific standards | EX2: As needed or required | EY2: Other (please specify) | EZ2: Response | FA2: Response | FB2: Open-Ended Response | FC2: Open-Ended Response | FD2: Results of risk and needs assessment | FE2: Results of a specialized assessment | FF2: Combination of risk and needs assessment and specialized assessment | FG2: Caseload specific standards | FH2: As needed or required | FI2: Other (please specify) | FJ2: Response | FK2: Open-Ended Response | FL2: Open-Ended Response | FM2: Results of risk and needs assessment | FN2: Results of a specialized assessment | FO2: Combination of risk and needs assessment and specialized assessment | FP2: Caseload specific standards | FQ2: As needed or required | FR2: Other (please specify) | FS2: Response | FT2: Open-Ended Response | FU2: Open-Ended Response | FV2: Results of risk and needs assessment | FW2: Results of a specialized assessment | FX2: Combination of risk and needs assessment and specialized assessment | FY2: Caseload specific standards | FZ2: As needed or required | GA2: Other (please specify) | GB2: Response | GC2: Open-Ended Response | GD2: Open-Ended Response | GE2: Results of risk and needs assessment | GF2: Results of a specialized assessment | GG2: Combination of risk and needs assessment and specialized assessment | GH2: Caseload specific standards | GI2: As needed or required | GJ2: Other (please specify) | GK2: Response | GL2: Response | GM2: Open-Ended Response | GN2: Open-Ended Response | GO2: Results of risk and needs assessment | GP2: Results of a specialized assessment | GQ2: Combination of risk and needs assessment and specialized assessment | GR2: Caseload specific standards | GS2: As needed or required | GT2: Other (please specify) | GU2: Response | GV2: Open-Ended Response | GW2: Open-Ended Response | GX2: Results of risk and needs assessment | GY2: Results of a specialized assessment | GZ2: Combination of risk and needs assessment and specialized assessment | HA2: Caseload specific standards | HB2: As needed or required | HC2: Other (please specify) | HD2: Response | HE2: Open-Ended Response | HF2: Open-Ended Response | HG2: Results of risk and needs assessment | HH2: Results of a specialized assessment | HI2: Combination of risk and needs assessment and specialized assessment | HJ2: Caseload specific standards | HK2: As needed or required | HL2: Other (please specify) | HM2: Response | HN2: Open-Ended Response | HO2: Open-Ended Response | HP2: Results of risk and needs assessment | HQ2: Results of a specialized assessment | HR2: Combination of risk and needs assessment and specialized assessment | HS2: Caseload specific standards | HT2: As needed or required | HU2: Other (please specify) | HV2: Response | HW2: Open-Ended Response | HX2: Open-Ended Response | HY2: Results of risk and needs assessment | HZ2: Results of a specialized assessment | IA2: Combination of risk and needs assessment and specialized assessment | IB2: Caseload specific standards | IC2: As needed or required | ID2: Other (please specify) | IE2: Response | IF2: Open-Ended Response | IG2: Open-Ended Response | IH2: Results of risk and needs assessment | II2: Results of a specialized assessment | IJ2: Combination of risk and needs assessment and specialized assessment | IK2: Caseload specific standards | IL2: As needed or required | IM2: Other (please specify) | IN2: Response | IO2: Open-Ended Response | IP2: Open-Ended Response | IQ2: Results of risk and needs assessment | IR2: Results of a specialized assessment | IS2: Combination of risk and needs assessment and specialized assessment | IT2: Caseload specific standards | IU2: As needed or required | IV2: Other (please specify) | IW2: Response | IX2: Response | IY2: Response | IZ2: Open-Ended Response | JA2: Open-Ended Response | JB2: Results of risk and needs assessment | JC2: Results of a specialized assessment | JD2: Combination of risk and needs assessment and specialized assessment | JE2: Caseload specific standards | JF2: As needed or required | JG2: Other (please specify) | JH2: Response | JI2: Response | JJ2: Response | JK2: Open-Ended Response | JL2: Open-Ended Response | JM2: Results of risk and needs assessment | JN2: Results of a specialized assessment | JO2: Combination of risk and needs assessment and specialized assessment | JP2: Caseload specific standards | JQ2: As needed or required | JR2: Other (please specify) | JS2: Response | JT2: Response | JU2: Response | JV2: Open-Ended Response | JW2: Open-Ended Response | JX2: Open-Ended Response | JY2: Results of risk and needs assessment | JZ2: Results of a specialized assessment | KA2: Combination of risk and needs assessment and specialized assessment | KB2: Caseload specific standards | KC2: As needed or required | KD2: Other (please specify) | KE2: Response | KF2: Open-Ended Response | KG2: Open-Ended Response | KH2: Open-Ended Response | KI2: Results of risk and needs assessment | KJ2: Results of a specialized assessment | KK2: Combination of risk and needs assessment and specialized assessment | KL2: Caseload specific standards | KM2: As needed or required | KN2: Other (please specify) | KO2: Response | KP2: Open-Ended Response | KQ2: Open-Ended Response | KR2: Open-Ended Response | KS2: Results of risk and needs assessment | KT2: Results of a specialized assessment | KU2: Combination of risk and needs assessment and specialized assessment | KV2: Caseload specific standards | KW2: As needed or required | KX2: Other (please specify) | KY2: Response | KZ2: Open-Ended Response | LA2: A PSI is ordered on all or the majority of cases | LB2: As requested by either the prosecutor or defense attorney | LC2: When there is a need to confirm the prior record score or guidelines | LD2: When there is a likelihood of a state sentence | LE2: To determine if a county or a state sentence would be more appropriate | LF2: To determine if a community supervision or a period of incarceration would be more important | LG2: If the Pennsylvania Commission on Sentencing's Sentence Risk Assessment Instrument indicates "Additional Information Recommended" | LH2: As an aid to determine risk or the person's criminogenic needs | LI2: Other (please specify) | LJ2: Open-Ended Response | LK2: Response | LL2: Open-Ended Response | LM2: Arrest/Warrant Service/Searches | LN2: Attending regular court hearings such as pleas and/or sentencings (does not include Gagnon hearings) | LO2: Computing sentencing guidelines (not including violations) | LP2: Courthouse of courtroom security | LQ2: CRN's | LR2: Departmental instructors (providing training to staff) | LS2: DNA Registration | LT2: Drug testing (primary method) | LU2: Duty Days | LV2: Electronic monitoring/house arrest screenings for eligibility | LW2: Facilitating or teaching groups/classes | LX2: Intercounty or interstate transfer cases (ICOTS) | LY2: Intakes | LZ2: Juvenile Transports (assisting JPO) | MA2: Office maintenance | MB2: Parole investigations | MC2: SORNA Registration | MD2: Transports/ extraditions | ME2: Writing presentence investigations | MF2: Other (Free text) | MG2: Open-Ended Response | MH2: Open-Ended Response | MI2: Open-Ended Response | MJ2: Open-Ended Response | MK2: Open-Ended Response | ML2: Open-Ended Response | MM2: Response | MN2: Open-Ended Response | MO2: Open-Ended Response | MP2: Response | MQ2: Status reports completed | MR2: Probation review hearings held | MS2: Probation review hearings - Probation terminated | MT2: Probation review hearings - Probation continued | MU2: Early terminations as a result of Act 2023-44 only | MV2: Increased conditions as a result of Act 2023-44 only | MW2: Decreased conditions as a result of Act 2023-44 only | MX2: No change to supervision status as a result of 2023-44 only | MY2: Other (please specify) | MZ2: Open-Ended Response
A3: 115043933650 | B3: 438832579 | C3: 46072.418 | D3: 46121.589 | E3: 204.186.112.97 | J3: Northumberland | K3: Tim Heitzman | L3: tim.heitzman@northumberlandcountypa.gov | M3: 1261 | N3: 13 | O3: 4 | P3: No | Q3: No | R3: 4 | S3: Pretrial Tool (ORAS-PAT) | U3: Misdemeanor Screening Tool (ORAS-MST) | V3: Community Supervision Tool (ORAS-CST) | W3: Community Supervision Screener Tool (ORAS-CSST) | AG3: 164 | AH3: 102 | AI3: 20 | AJ3: 0 | AK3: Caseloads are assigned based on where the person lives | AM3: Yes | AN3: Yes (If you answer "Yes" to this question, you will skip to question 4A) | AO3: ARD cases | AQ3: Transfer cases (Inter-county) | AR3: Transfer cases (Inter-state) | AS3: Cases that are ineligible to transfer | AT3: People that are incarcerated | AV3: People that are a low risk | AY3: By computer (email or other forms of electronic reporting) | AZ3: 2 | BA3: 150 | BB3: Yes (If you answer "Yes" to this question, you will skip to question 5A) | BC3: 1 | BD3: 200 | BE3: As needed or required | BG3: Yes (If you answer "Yes" to this question, you will skip to question 6) | BH3: No (If you answer "No" to this question, you will skip to question 7) | BM3: No (If you answer "No" to this question, you will skip to question 8) | BR3: No (If you answer "No" to this question, you will skip to question 9) | BW3: Yes (If you answer "Yes" to this question, you will skip to question 9A) | BX3: 9 | BY3: 60 | BZ3: One face-to-face contact every two weeks | CB3: One face-to-face contact per week | CD3: Other (Free text) | CE3: Same as High | CF3: No (If you answer "No" to this question, you will skip to question 11) | CQ3: Yes (If you answer "Yes" to this question, you will skip to question 12) | CR3: Yes (If you answer "Yes" to this question, you will skip to question 12A) | CS3: 1 | CT3: 20 | CU3: Contact standards are determined by the phase level | CW3: More than one face-to face contact per week | CY3: No (If you answer "No" to this question, you will skip to question 14) | DF3: No (If you answer "No" to this question, you will skip to question 15) | DM3: No (If you answer "No" to this question, you will skip to question 16) | DT3: No (If you answer "No" to this question, you will skip to question 17) | EA3: No (If you answer "No" to this question, you will skip to question 18) | EH3: No (If you answer "No" to this question, you will skip to question 19) | EP3: Yes (If you answer "Yes" to this question, you will skip to question 20) | EQ3: Yes (If you answer "Yes" to this question, you will skip to question 20A) | ER3: 2 | ES3: 150 | EW3: Caseload specific standards | EX3: As needed or required | EZ3: No | FA3: No (If you answer "No" to this question, you will skip to question 22) | FJ3: Yes (If you answer "Yes" to this question, you will skip to question 22A) | FK3: 1 | FL3: 40 | FN3: Results of a specialized assessment | FP3: Caseload specific standards | FQ3: As needed or required | FS3: No (If you answer "No" to this question, you will skip to question 24) | GB3: No (If you answer "No" to this question, you will skip to question 25) | GL3: No (If you answer "No" to this question, you will skip to question 26) | GU3: No (If you answer "No" to this question, you will skip to question 27) | HD3: No (If you answer "No" to this question, you will skip to question 28) | HM3: No (If you answer "No" to this question, you will skip to question 29) | HV3: No (If you answer "No" to this question, you will skip to question 30) | IE3: No (If you answer "No" to this question, you will skip to question 31) | IN3: Yes (If you answer "Yes" to this question, you will skip to question 31A) | IO3: 143 | IP3: 150 | IT3: Caseload specific standards | IW3: By computer (email or other forms of electronic reporting) | IX3: No | IY3: Yes (If you answer "Yes" to this question, you will skip to question 32A) | IZ3: 1 | JA3: 119 | JG3: Receiving County determines | JH3: Not required to report | JI3: No | JJ3: No (If you answer "No" to this question, you will skip to question 34) | JU3: No (If you answer "No" to this question, you will skip to question 35) | KY3: No (If you answer "No" to this question, you will skip to question 38) | LB3: As requested by either the prosecutor or defense attorney | LC3: When there is a need to confirm the prior record score or guidelines | LD3: When there is a likelihood of a state sentence | LE3: To determine if a county or a state sentence would be more appropriate | LF3: To determine if a community supervision or a period of incarceration would be more important | LJ3: 119 | LK3: No (If you answer "No" to this question, you will skip to question 39) | LM3: Arrest/Warrant Service/Searches | LN3: Attending regular court hearings such as pleas and/or sentencings (does not include Gagnon hearings) | LO3: Computing sentencing guidelines (not including violations) | LP3: Courthouse of courtroom security | LR3: Departmental instructors (providing training to staff) | LT3: Drug testing (primary method) | LU3: Duty Days | LX3: Intercounty or interstate transfer cases (ICOTS) | LY3: Intakes | MB3: Parole investigations | MC3: SORNA Registration | MD3: Transports/ extraditions | ME3: Writing presentence investigations | MG3: 37.5 | MH3: 30 | MI3: NA | MM3: No | MO3: Act 44 has impacted us greatly and ties probation hands in supervising people appropriately. Not enough space here to go into it all | MP3: No (If you answer "No" to this question, you will skip to question 44) | MY3: Nothing yet
A4: 115076427136 | B4: 438832579 | C4: 46121.553 | D4: 46121.569 | E4: 208.103.127.98 | J4: Indiana | K4: Amanda Leonard | L4: aleonard@indianacountypa.gov | M4: 725 | N4: 12 | O4: 6 | P4: No | Q4: No | R4: 0 | V4: Community Supervision Tool (ORAS-CST) | W4: Community Supervision Screener Tool (ORAS-CSST) | AG4: 48 | AH4: 188 | AI4: 12 | AJ4: 2 | AK4: Other (please specify) | AL4: caseloads are assigned to officers evenly so that their caseloads stay similar in number. | AM4: Yes | AN4: Yes (If you answer "Yes" to this question, you will skip to question 4A) | AO4: ARD cases | AQ4: Transfer cases (Inter-county) | AV4: People that are a low risk | AY4: By computer (email or other forms of electronic reporting) | AZ4: 3 | BA4: 172 | BB4: Yes (If you answer "Yes" to this question, you will skip to question 5A) | BC4: 2 | BD4: 169 | BE4: Face-to-face contacts are not required | BG4: No (If you answer "No" to this question, you will skip to question 9) | BW4: Yes (If you answer "Yes" to this question, you will skip to question 9A) | BX4: 5 | BY4: 50 | BZ4: One face-to-face contact per month | CB4: One face-to-face contact every two weeks | CD4: One required face-to-face contact per week | CF4: No (If you answer "No" to this question, you will skip to question 11) | CQ4: Yes (If you answer "Yes" to this question, you will skip to question 12) | CR4: Yes (If you answer "Yes" to this question, you will skip to question 12A) | CS4: 2 | CT4: 7 | CU4: Contact standards are determined by the phase level | CW4: More than one face-to face contact per week | CY4: No (If you answer "No" to this question, you will skip to question 14) | DF4: Yes (If you answer "Yes" to this question, you will skip to question 14A) | DG4: 1 | DH4: 2 | DI4: Contact standards are determined by the phase level | DK4: More than one face-to face contact per week | DM4: No (If you answer "No" to this question, you will skip to question 16) | DT4: No (If you answer "No" to this question, you will skip to question 17) | EA4: No (If you answer "No" to this question, you will skip to question 18) | EH4: No (If you answer "No" to this question, you will skip to question 19) | EP4: Yes (If you answer "Yes" to this question, you will skip to question 20) | EQ4: Yes (If you answer "Yes" to this question, you will skip to question 20A) | ER4: 1 | ES4: 52 | EX4: As needed or required | EZ4: No | FA4: No (If you answer "No" to this question, you will skip to question 22) | FJ4: Yes (If you answer "Yes" to this question, you will skip to question 22A) | FK4: 1 | FL4: 45 | FQ4: As needed or required | FS4: No (If you answer "No" to this question, you will skip to question 24) | GB4: No (If you answer "No" to this question, you will skip to question 25) | GL4: No (If you answer "No" to this question, you will skip to question 26) | GU4: No (If you answer "No" to this question, you will skip to question 27) | HD4: No (If you answer "No" to this question, you will skip to question 28) | HM4: No (If you answer "No" to this question, you will skip to question 29) | HV4: No (If you answer "No" to this question, you will skip to question 30) | IE4: Yes (If you answer "Yes" to this question, you will skip to question 30A) | IF4: 1 | IG4: 25 | IL4: As needed or required | IN4: Yes (If you answer "Yes" to this question, you will skip to question 31A) | IO4: 1 | IP4: 165 | IT4: Caseload specific standards | IW4: By computer (email or other forms of electronic reporting) | IX4: Yes | IY4: Yes (If you answer "Yes" to this question, you will skip to question 32A) | IZ4: 1 | JA4: 179 | JG4: The receiving county/state would determine contact standards. | JH4: Not required to report | JI4: Yes | JJ4: No (If you answer "No" to this question, you will skip to question 34) | JU4: No (If you answer "No" to this question, you will skip to question 35) | KY4: Yes (If you answer "Yes" to this question, you will skip to question 37A) | KZ4: administrative caseloads (low risk/transfers) | LA4: A PSI is ordered on all or the majority of cases | LJ4: 321 | LK4: Yes (If you answer "Yes" to this question, you will skip to question 38C) | LL4: 3 | LM4: Arrest/Warrant Service/Searches | LR4: Departmental instructors (providing training to staff) | LS4: DNA Registration | LT4: Drug testing (primary method) | LX4: Intercounty or interstate transfer cases (ICOTS) | LY4: Intakes | LZ4: Juvenile Transports (assisting JPO) | MB4: Parole investigations | MC4: SORNA Registration | MD4: Transports/ extraditions | MG4: 35 | MH4: 30 | MI4: n/a | MJ4: n/a | MK4: n/a | ML4: n/a | MM4: No | MP4: Yes (If you answer "Yes" to this question, you will skip to question 43A) | MQ4: Status reports completed | MR4: Probation review hearings held | MS4: Probation review hearings - Probation terminated | MT4: Probation review hearings - Probation continued | MU4: Early terminations as a result of Act 2023-44 only
A5: 115076221573 | B5: 438832579 | C5: 46121.358 | D5: 46121.371 | E5: 207.255.97.70 | J5: Fayette | K5: LeROy Townsend | L5: ltownsend@faycopro.org | M5: 1454 | N5: 16 | O5: 5 | P5: No | Q5: No | R5: 0 | S5: Pretrial Tool (ORAS-PAT) | V5: Community Supervision Tool (ORAS-CST) | W5: Community Supervision Screener Tool (ORAS-CSST) | AG5: 0 | AH5: 0 | AI5: 0 | AJ5: 0 | AK5: Other (please specify) | AL5: based on caseload | AM5: Yes | AN5: No (If you answer "No" to this question, you will skip to question 5) | BB5: No (If you answer "No" to this question, you will skip to question 6) | BH5: No (If you answer "No" to this question, you will skip to question 7) | BM5: No (If you answer "No" to this question, you will skip to question 8) | BR5: No (If you answer "No" to this question, you will skip to question 9) | BW5: No (If you answer "No" to this question, you will skip to question 10) | CF5: Yes (If you answer "Yes" to this question, you will skip to question 10A) | CG5: 16 | CH5: 110 | CI5: Other (Free text) | CJ5: xxx | CK5: Other (Free text) | CL5: xxx | CM5: Other (Free text) | CN5: xxx | CO5: Other (Free text) | CP5: xxx | CQ5: Yes (If you answer "Yes" to this question, you will skip to question 12) | CR5: Yes (If you answer "Yes" to this question, you will skip to question 12A) | CS5: 1 | CT5: 51 | CU5: Other (please specify) | CV5: xxx | CW5: Other (please specify) | CX5: xxx | CY5: Yes (If you answer "Yes" to this question, you will skip to question 13A) | CZ5: 1 | DA5: 29 | DB5: Other (please specify) | DC5: xxx | DD5: Other (please specify) | DE5: xxx | DF5: Yes (If you answer "Yes" to this question, you will skip to question 14A) | DG5: 1 | DH5: 8 | DI5: Other (please specify) | DJ5: xxx | DK5: Other (please specify) | DL5: xxx | DM5: No (If you answer "No" to this question, you will skip to question 16) | DT5: No (If you answer "No" to this question, you will skip to question 17) | EA5: No (If you answer "No" to this question, you will skip to question 18) | EH5: No (If you answer "No" to this question, you will skip to question 19) | EP5: Yes (If you answer "Yes" to this question, you will skip to question 20) | EQ5: Yes (If you answer "Yes" to this question, you will skip to question 20A) | ER5: 1 | ES5: 125 | EY5: xxx | EZ5: No | FA5: No (If you answer "No" to this question, you will skip to question 22) | FJ5: Yes (If you answer "Yes" to this question, you will skip to question 22A) | FK5: 1 | FL5: 23 | FR5: xxx | FS5: No (If you answer "No" to this question, you will skip to question 24) | GB5: No (If you answer "No" to this question, you will skip to question 25) | GL5: No (If you answer "No" to this question, you will skip to question 26) | GU5: No (If you answer "No" to this question, you will skip to question 27) | HD5: No (If you answer "No" to this question, you will skip to question 28) | HM5: No (If you answer "No" to this question, you will skip to question 29) | HV5: No (If you answer "No" to this question, you will skip to question 30) | IE5: No (If you answer "No" to this question, you will skip to question 31) | IN5: Yes (If you answer "Yes" to this question, you will skip to question 31A) | IO5: 1 | IP5: 165 | IV5: xx | IW5: By computer (email or other forms of electronic reporting) | IX5: No | IY5: Yes (If you answer "Yes" to this question, you will skip to question 32A) | IZ5: 1 | JA5: 155 | JG5: xx | JH5: In person | JI5: No | JJ5: No (If you answer "No" to this question, you will skip to question 34) | JU5: No (If you answer "No" to this question, you will skip to question 35) | KY5: No (If you answer "No" to this question, you will skip to question 38) | LA5: A PSI is ordered on all or the majority of cases | LJ5: 2167 | LK5: Yes (If you answer "Yes" to this question, you will skip to question 38C) | LL5: 4 | LM5: Arrest/Warrant Service/Searches | LN5: Attending regular court hearings such as pleas and/or sentencings (does not include Gagnon hearings) | LR5: Departmental instructors (providing training to staff) | LT5: Drug testing (primary method) | LV5: Electronic monitoring/house arrest screenings for eligibility | MG5: 37.5 | MH5: 30 | MM5: No | MO5: A lot of difficulty due to 'gray' legislation
A6: 115068510495 | B6: 438832579 | C6: 46108.628 | D6: 46108.628 | E6: 173.246.243.210 | J6: Juniata | K6: Michelle Beaver | L6: mbeaver@juniataco.org
